Workbook

Sheet ΦΥΛΛΟ 1
A1: ΗΜΕΡΟΜΗΝΙΑ: 24/3/2025 _ΣΥΓΚΕΝΤΡΩΤΙΚΟΣ ΠΙΝΑΚΑΣ ΕΠΙΛΟΓΗΣ-ΜΟΡΙΟΔΟΤΗΣΗΣ ΣΥΜΜΕΤΕΧΟΝΤΩΝ ΦΟΙΤΗΤΩΝ ERASMUS+ ΣΠΟΥΔΕΣ 2025-2026 _ ΜΑΚΡΟΧΡΟΝΙΑ ΚΙΝΗΤΙΚΟΤΗΤΑ ΚΑ131 / CALL 2024 _ ΤΜΗΜΑ: ΤΜΗΜΑ ΘΕΑΤΡΙΚΩΝ ΣΠΟΥΔΩΝ
A2: Α/Α ΚΑΤΑΤΑΞΗΣ | B2: ΑΡΙΘΜΟΣ ΜΗΤΡΩΟΥ | C2: ΚΥΚΛΟΣ ΣΠΟΥΔΩΝ (1,2,3) | D2: ΑΚΑΔΗΜΑΪΚΟΣ ΥΠΕΥΘΥΝΟΣ ΔΙΜΕΡΟΥΣ ΣΥΜΦΩΝΙΑΣ | E2: ΕΞΑΜΗΝΟ ΜΕΤΑΚΙΝΗΣΗΣ Χ/Ε | F2: ΚΩΔΙΚΟΣ ΙΔΡΥΜΑΤΟΣ ΥΠΟΔΟΧΗΣ | G2: ΓΛΩΣΣΑ ΔΙΔΑΣΚΑΛΙΑΣ ΒΑΣΕΙ ΤΗΣ ΔΙΜΕΡΟΥΣ ΣΥΜΦΩΝΙΑΣ | H2: 1. ΕΠΙΠΕΔΟ ΓΛΩΣΣΑΣ ΔΙΔΑΣΚΑΛΙΑΣ | I2: 1. ΜΟΡΙΟΔΟΤΗΣΗ | J2: 2. ΓΝΩΣΗ ΕΠΙΠΛΕΟΝ ΓΛΩΣΣΑΣ | K2: 2. ΜΟΡΙΟΔΟΤΗΣΗ | L2: 3. ΜΕΣΟΣ ΟΡΟΣ ΒΑΘΜΟΛΟΓΙΑΣ | M2: 3. ΜΟΡΙΟΔΟΤΗΣΗ | N2: 4. ΒΑΘΜΟΣ ΠΤΥΧΙΟΥ ΓΙΑ ΜΕΤΑΠΤΥΧΙΑΚΟ / ΔΙΔΑΚΤΟΡΙΚΟ ΦΟΙΤΗΤΗ | O2: 4. ΜΟΡΙΟΔΟΤΗΣΗ | P2: 5. ΒΑΘΜΟΣ ΜΕΤΑΠΤΥΧΙΑΚΟΥ ΓΙΑ ΔΙΔΑΚΤΟΡΙΚΟ ΦΟΙΤΗΤΗ | Q2: 5. ΜΟΡΙΟΔΟΤΗΣΗ | R2: 6. ΣΥΝΕΝΤΕΥΞΗ | S2: 6. ΜΟΡΙΟΔΟΤΗΣΗ | T2: ΣΥΝΟΛΟ ΜΟΡΙΟΔΟΤΗΣΗΣ
A3: 1 | B3: 7568012300086 | C3: 2 | D3: ΒΑΡΖΕΛΙΩΤΗ | E3: Ε | F3: CZ PRAHA 07 | H3: C2 | I3: 30 | J3: B1 ΙΤ | K3: 7.5 | L3: 10 | M3: 40 | N3: 7.63 | O3: 7.63 | R3: 10 | S3: 5 | T3: =I3+K3+M3+O3+Q3+S3 -> 90.13
A4: 2 | B4: 7568012300054 | C4: 2 | D4: ΒΑΡΖΕΛΙΩΤΗ | E4: Χ | F4: CZ BRNO 05 | H4: C2 | I4: 30 | K4: 0 | L4: 9.2 | M4: 36.8 | N4: 7.42 | O4: 7.42 | R4: 10 | S4: 5 | T4: =I4+K4+M4+O4+Q4+S4 -> 79.22
A5: 3 | B5: 1568202300001 | C5: 1 | D5: ΒΑΡΖΕΛΙΩΤΗ | E5: Χ | F5: IRL DUBLIN 01 | H5: C2 | I5: 30 | J5: B1 ΙΤ | K5: 7.5 | L5: 8.77 | M5: 35.08 | O5: 0 | R5: 10 | S5: 5 | T5: =I5+K5+M5+O5+Q5+S5 -> 77.58
A6: 4 | B6: 7568012400014 | C6: 2 | D6: ΔΙΑΚΟΥΜΟΠΟΥΛΟΥ | E6: Ε | F6: RO CLUJNAP 01 | H6: C2 | I6: 30 | J6: A2 FR | K6: 3.75 | L6: 7.67 | M6: 30.68 | N6: 8.07 | O6: 8.07 | R6: 10 | S6: 5 | T6: =I6+K6+M6+O6+Q6+S6 -> 77.5
A7: 5 | B7: 1568202300089 | C7: 1 | D7: ΒΑΡΖΕΛΙΩΤΗ | E7: Ε | F7: IRL DUBLIN 01 | H7: C2 | I7: 30 | J7: B1 DE | K7: 7.5 | L7: 8.74 | M7: 34.96 | O7: 0 | R7: 10 | S7: 5 | T7: =I7+K7+M7+O7+Q7+S7 -> 77.46
A8: 6 | B8: 1568202200137 | C8: 1 | D8: ΒΑΡΖΕΛΙΩΤΗ | E8: Χ | F8: IRL DUBLIN 01 | H8: C2 | I8: 30 | J8: B1 FR | K8: 7.5 | L8: 8.43 | M8: 33.72 | O8: 0 | R8: 10 | S8: 5 | T8: =I8+K8+M8+O8+Q8+S8 -> 76.22
A9: 7 | B9: 1568202300039 | C9: 1 | D9: ΒΑΡΖΕΛΙΩΤΗ | E9: Ε | F9: CZ PRAHA 07 | H9: C2 | I9: 30 | K9: 0 | L9: 9.37 | M9: 37.48 | O9: 0 | R9: 10 | S9: 5 | T9: =I9+K9+M9+O9+Q9+S9 -> 72.48
A10: 8 | B10: 1568202300115 | C10: 1 | D10: ΒΑΡΖΕΛΙΩΤΗ | E10: Ε | F10: F PARIS 003 | H10: B2 | I10: 15 | J10: C2 ENG | K10: 15 | L10: 9 | M10: 36 | O10: 0 | R10: 10 | S10: 5 | T10: =I10+K10+M10+O10+Q10+S10 -> 71
A11: 9 | B11: 1568202300084 | C11: 1 | D11: ΒΑΡΖΕΛΙΩΤΗ | E11: Χ | F11: F TOULOUS 02 | H11: B2 | I11: 15 | J11: C2 ENG | K11: 15 | L11: 8.41 | M11: 33.64 | O11: 0 | R11: 10 | S11: 5 | T11: =I11+K11+M11+O11+Q11+S11 -> 68.64
A12: 10 | B12: 1568202200148 | C12: 1 | D12: ΒΑΡΖΕΛΙΩΤΗ | E12: Χ | F12: IRL DUBLIN 01 | H12: C2 | I12: 30 | K12: 0 | L12: 8.39 | M12: 33.56 | O12: 0 | R12: 10 | S12: 5 | T12: =I12+K12+M12+O12+Q12+S12 -> 68.56
A13: 11 | B13: 1568202300131 | C13: 1 | D13: ΒΑΡΖΕΛΙΩΤΗ | E13: Ε | F13: CZ BRNO 05 | H13: C2 | I13: 30 | K13: 0 | L13: 8.32 | M13: 33.28 | O13: 0 | R13: 10 | S13: 5 | T13: =I13+K13+M13+O13+Q13+S13 -> 68.28
A14: 12 | B14: 1568202300088 | C14: 1 | D14: ΒΑΡΖΕΛΙΩΤΗ | E14: Ε | F14: PL WROCLAW 01 | H14: C2 | I14: 30 | K14: 0 | L14: 8.21 | M14: 32.84 | O14: 0 | R14: 10 | S14: 5 | T14: =I14+K14+M14+O14+Q14+S14 -> 67.84
A15: 13 | B15: 1568202200043 | C15: 1 | D15: ΒΑΡΖΕΛΙΩΤΗ | E15: Ε | F15: PL WROCLAW 01 | H15: C2 | I15: 30 | K15: 0 | L15: 7.61 | M15: 30.44 | O15: 0 | R15: 10 | S15: 5 | T15: =I15+K15+M15+O15+Q15+S15 -> 65.44
A16: 14 | B16: 1568202000158 | C16: 1 | D16: ΒΑΡΖΕΛΙΩΤΗ | E16: Ε | F16: I VENEZIA 02 | H16: B2 | I16: 15 | J16: C1 IT | K16: 15 | L16: 7.56 | M16: 30.24 | O16: 0 | R16: 10 | S16: 5 | T16: =I16+K16+M16+O16+Q16+S16 -> 65.24
A17: 15 | B17: 1568202300024 | C17: 1 | D17: ΒΑΡΖΕΛΙΩΤΗ | E17: Ε | F17: PL WROCLAW 01 | H17: C2 | I17: 30 | K17: 0 | L17: 7.32 | M17: 29.28 | O17: 0 | R17: 10 | S17: 5 | T17: =I17+K17+M17+O17+Q17+S17 -> 64.28
A18: 16 | B18: 756812300041 | C18: 2 | D18: ΒΑΡΖΕΛΙΩΤΗ | E18: Ε | F18: P COIMBRA 01 | H18: B2 | I18: 15 | K18: 0 | L18: 8.75 | M18: 35 | N18: 8.72 | O18: 8.72 | R18: 10 | S18: 5 | T18: =I18+K18+M18+O18+Q18+S18 -> 63.72
A19: 17 | B19: 1568202300126 | C19: 1 | D19: ΚΑΡΑΚΑΤΣΟΥΛΗ | E19: Ε | F19: F MONTPEL 03 | H19: B2 | I19: 15 | J19: B2 FR | K19: 7.5 | L19: 8.26 | M19: 33.04 | O19: 0 | R19: 10 | S19: 5 | T19: =I19+K19+M19+O19+Q19+S19 -> 60.54
A20: 18 | B20: 1568202200065 | C20: 1 | D20: ΒΑΡΖΕΛΙΩΤΗ | E20: Ε | F20: PL WROCLAW 01 | H20: B2 | I20: 15 | K20: 0 | L20: 7.67 | M20: 30.68 | O20: 0 | R20: 10 | S20: 5 | T20: =I20+K20+M20+O20+Q20+S20 -> 50.68
A21: 19 | B21: 1568202200063 | C21: 1 | D21: ΒΑΡΖΕΛΙΩΤΗ | E21: Ε | F21: PL WROCLAW 01 | H21: B2 | I21: 15 | K21: 0 | L21: 7.23 | M21: 28.92 | O21: 0 | R21: 10 | S21: 5 | T21: =I21+K21+M21+O21+Q21+S21 -> 48.92
A22: 20 | B22: 1568202200007 | C22: 1 | E22: Ε | H22: C2 | I22: 30 | K22: 0 | L22: 7.04 | M22: 28.16 | O22: 0 | R22: 10 | S22: 5 | T22: =I22+K22+M22+O22+Q22+S22 -> 63.16
T23: =I23+K23+M23+O23+Q23+S23 -> 0
T24: =I24+K24+M24+O24+Q24+S24 -> 0
T25: =I25+K25+M25+O25+Q25+S25 -> 0
T26: =I26+K26+M26+O26+Q26+S26 -> 0
T27: =I27+K27+M27+O27+Q27+S27 -> 0
T28: =I28+K28+M28+O28+Q28+S28 -> 0
T29: =I29+K29+M29+O29+Q29+S29 -> 0
T30: =I30+K30+M30+O30+Q30+S30 -> 0
T31: =I31+K31+M31+O31+Q31+S31 -> 0
T32: =I32+K32+M32+O32+Q32+S32 -> 0
T33: =I33+K33+M33+O33+Q33+S33 -> 0
T34: =I34+K34+M34+O34+Q34+S34 -> 0
... T58: =I58+K58+M58+O58+Q58+S58 -> 0
B59: . | T59: =I59+K59+M59+O59+Q59+S59 -> 0

Sheet List
A1: UNI | B1: POSITIONS | C1: USED | D1: AVAIL | H1: UNI | I1: POSITIONS | J1: USED | K1: AVAIL
A2: BG PLOVDIV 04 | B2: 1 | C2: =COUNTIF('ΦΥΛΛΟ 1'!#REF!,List!A2) -> #REF! | D2: =B2-C2 -> #REF! | H2: {=_xlfn._xlws.FILTER(A2:D16,D2:D16>0)} -> #REF!
A3: F PARIS 003 | B3: 1 | C3: =COUNTIF('ΦΥΛΛΟ 1'!#REF!,List!A3) -> #REF! | D3: =B3-C3 -> #REF!
A4: F TOULOUS 02 | B4: 2 | C4: =COUNTIF('ΦΥΛΛΟ 1'!#REF!,List!A4) -> #REF! | D4: =B4-C4 -> #REF!
A5: F LILLE 103 | B5: 2 | C5: =COUNTIF('ΦΥΛΛΟ 1'!#REF!,List!A5) -> #REF! | D5: =B5-C5 -> #REF!
A6: F MONTPEL 03 | B6: 2 | C6: =COUNTIF('ΦΥΛΛΟ 1'!#REF!,List!A6) -> #REF! | D6: =B6-C6 -> #REF!
A7: D BERLIN 01 | B7: 1 | C7: =COUNTIF('ΦΥΛΛΟ 1'!#REF!,List!A7) -> #REF! | D7: =B7-C7 -> #REF!
A8: IRL DUBLIN 01 | B8: 4 | C8: =COUNTIF('ΦΥΛΛΟ 1'!#REF!,List!A8) -> #REF! | D8: =B8-C8 -> #REF!
A9: I TORINO 01 | B9: 2 | C9: =COUNTIF('ΦΥΛΛΟ 1'!#REF!,List!A9) -> #REF! | D9: =B9-C9 -> #REF!
A10: I VENEZIA 02 | B10: 2 | C10: =COUNTIF('ΦΥΛΛΟ 1'!#REF!,List!A10) -> #REF! | D10: =B10-C10 -> #REF!
A11: PL WROCLAW 01 | B11: 5 | C11: =COUNTIF('ΦΥΛΛΟ 1'!#REF!,List!A11) -> #REF! | D11: =B11-C11 -> #REF!
A12: P COIMBRA 01 | B12: 1 | C12: =COUNTIF('ΦΥΛΛΟ 1'!#REF!,List!A12) -> #REF! | D12: =B12-C12 -> #REF!
A13: RO CLUJNAP 01 | B13: 2 | C13: =COUNTIF('ΦΥΛΛΟ 1'!#REF!,List!A13) -> #REF! | D13: =B13-C13 -> #REF!
A14: TR ISTANBU 08 | B14: 2 | C14: =COUNTIF('ΦΥΛΛΟ 1'!#REF!,List!A14) -> #REF! | D14: =B14-C14 -> #REF!
... A16: CZ PRAHA 07 | B16: 2 | C16: =COUNTIF('ΦΥΛΛΟ 1'!#REF!,List!A16) -> #REF! | D16: =B16-C16 -> #REF!
